BEGIN:VCALENDAR
VERSION:2.0
PRODID:-//Volt Europa//Events//EN
CALSCALE:GREGORIAN
METHOD:PUBLISH
BEGIN:VEVENT
UID:meet-greet-nagold-2025-10-22-1761150600@voltdeutschland.org
DTSTAMP:20260421T100756Z
DTSTART;TZID=Europe/Berlin:20251022T183000
DTEND;TZID=Europe/Berlin:20251022T200000
SUMMARY:Meet & Greet Nagold
DESCRIPTION:Wir laden dich herzlich zu unserem Meet & Greet um 18:30 Uhr im
  Bahnhof 1872 in Nagold ein - hier haben wir viel Zeit zum gemeinsamen Aust
 ausch. 👉 Komm einfach vorbei.
LOCATION:Bahnhof 1872 - Bahnhof 1\, 72202 Nagold
URL:https://voltdeutschland.org/bw/veranstaltungen/meet-greet-nagold-2025-1
 0-22
END:VEVENT
END:VCALENDAR
