BEGIN:VCALENDAR
VERSION:2.0
PRODID:-//Volt Europa//Events//EN
CALSCALE:GREGORIAN
METHOD:PUBLISH
BEGIN:VEVENT
UID:meet-greet-karlsruhe-2026-01-22-1769104800@voltdeutschland.org
DTSTAMP:20260423T123936Z
DTSTART;TZID=Europe/Berlin:20260122T190000
DTEND;TZID=Europe/Berlin:20260122T220000
SUMMARY:Meet & Greet Karlsruhe
DESCRIPTION:Jeden zweiten Donnerstag treffen wir uns im PrinzS\, um entspan
 nt zusammen zu sitzen und ein bisschen zu quatschen. Komm gerne vorbei\, we
 nn du wieder aktiv werden willst\, Volt kennenlernen oder um einfach entspa
 nnt einen Abend über Politik diskutieren willst!
LOCATION:Cafe PRINZs - Karlsruhe\, Zähringerstraße 15\, 76131 Karlsruhe
URL:https://voltdeutschland.org/bw/veranstaltungen/meet-greet-karlsruhe-202
 6-01-22
END:VEVENT
END:VCALENDAR
