BEGIN:VCALENDAR
VERSION:2.0
PRODID:-//Volt Europa//Events//EN
CALSCALE:GREGORIAN
METHOD:PUBLISH
BEGIN:VEVENT
UID:meet-greet-karlsruhe-2024-07-27-1719507600@voltdeutschland.org
DTSTAMP:20260425T023954Z
DTSTART;TZID=Europe/Berlin:20240627T190000
DTEND;TZID=Europe/Berlin:20240627T210000
SUMMARY:Meet & Greet Karlsruhe
DESCRIPTION:Muss ich etwas mitbringen? Nein. Du musst nichts mitbringen\, n
 och brauchst du irgendein spezielles Wissen um teilzunehmen. Wir wollen ein
 fach unsere Ideen mit Menschen teilen\, die eine gemeinsame Vision für die
  Zukunft Europas haben\, möglichst bei einem Getränk. Wo finden die Meet 
 & Greets statt? Meistens im PrinzS\, im Sommer oft auch im Schlossgarten. M
 anche Meet & Greets finden auch an anderen Orten statt. Den genauen Ort fin
 dest du auf unserer Webseite. Worüber wird bei den Meet & Greets gesp
LOCATION:PrinzS\, Zähringerstraße 15
URL:https://voltdeutschland.org/bw/veranstaltungen/meet-greet-karlsruhe-202
 4-07-27
END:VEVENT
END:VCALENDAR
