BEGIN:VCALENDAR
VERSION:2.0
PRODID:-//Volt Europa//Events//EN
CALSCALE:GREGORIAN
METHOD:PUBLISH
BEGIN:VEVENT
UID:meet-greet-heidelberg-2025-08-08-1754668800@voltdeutschland.org
DTSTAMP:20260423T044436Z
DTSTART;TZID=Europe/Berlin:20250808T180000
DTEND;TZID=Europe/Berlin:20250808T190000
SUMMARY:Meet & Greet Rhein-Neckar/Ladenburg
DESCRIPTION:Lern das Team Volt Rhein-Neckar kennen und quatsch mit uns übe
 r Europa und Politik. Komm vorbei!
LOCATION:Neckarwiese\, 68526 Ladenburg
URL:https://voltdeutschland.org/bw/veranstaltungen/meet-greet-heidelberg-20
 25-08-08
END:VEVENT
END:VCALENDAR
