BEGIN:VCALENDAR
VERSION:2.0
PRODID:-//Volt Europa//Events//EN
CALSCALE:GREGORIAN
METHOD:PUBLISH
BEGIN:VEVENT
UID:meet-greet-heidelberg-2025-03-12-1741798800@voltdeutschland.org
DTSTAMP:20260425T134548Z
DTSTART;TZID=Europe/Berlin:20250312T180000
DTEND;TZID=Europe/Berlin:20250312T200000
SUMMARY:Meet & Greet Rhein-Neckar/Ladenburg
DESCRIPTION:Lern das Team Volt Rhein-Neckar kennen und quatsch mit uns übe
 r Europa und Politik. Komm vorbei!
LOCATION:Zwiwwel\, Kirchenstraße 24\, 68526 Ladenburg
URL:https://voltdeutschland.org/bw/veranstaltungen/meet-greet-heidelberg-20
 25-03-12
END:VEVENT
END:VCALENDAR
