BEGIN:VCALENDAR
VERSION:2.0
PRODID:-//Volt Europa//Events//EN
CALSCALE:GREGORIAN
METHOD:PUBLISH
BEGIN:VEVENT
UID:meet-greet-heidelberg-2024-10-25-1729877400@voltdeutschland.org
DTSTAMP:20260424T080701Z
DTSTART;TZID=Europe/Berlin:20241025T193000
DTEND;TZID=Europe/Berlin:20241025T213000
SUMMARY:Meet & Greet Rhein-Neckar/Weinheim
DESCRIPTION:Lern das Team Volt Heidelberg/Rhein-Neckar kennen und quatsch m
 it uns über Europa und Politik. Komm vorbei!
LOCATION:Café Florian\, Marktplatz 8\, 69469 Weinheim
URL:https://voltdeutschland.org/bw/veranstaltungen/meet-greet-heidelberg-20
 24-10-25
END:VEVENT
END:VCALENDAR
