BEGIN:VCALENDAR
VERSION:2.0
PRODID:-//Volt Europa//Events//EN
CALSCALE:GREGORIAN
METHOD:PUBLISH
BEGIN:VEVENT
UID:meet-greet-freudenstadt-2025-11-05-1762363800@voltdeutschland.org
DTSTAMP:20260421T100710Z
DTSTART;TZID=Europe/Berlin:20251105T183000
DTEND;TZID=Europe/Berlin:20251105T200000
SUMMARY:Meet & Greet Freudenstadt
DESCRIPTION:Wir laden dich herzlich zu unserem Meet & Greet um 18:30 Uhr in
  Freudenstadt im Speckwirt ein - hier haben wir viel Zeit zum gemeinsamen A
 ustausch. 👉 Komm einfach vorbei.
LOCATION:Speckwirt - Marktplatz 45\, 72250 Freudenstadt
URL:https://voltdeutschland.org/bw/veranstaltungen/meet-greet-freudenstadt-
 2025-11-05
END:VEVENT
END:VCALENDAR
