BEGIN:VCALENDAR
VERSION:2.0
PRODID:-//Volt Europa//Events//EN
CALSCALE:GREGORIAN
METHOD:PUBLISH
BEGIN:VEVENT
UID:meet-greet-freiburg-mai25-1746550800@voltdeutschland.org
DTSTAMP:20260424T045819Z
DTSTART;TZID=Europe/Berlin:20250506T190000
DTEND;TZID=Europe/Berlin:20250506T210000
SUMMARY:Meet & Greet Freiburg
DESCRIPTION:Nächste Runde: Am 6. Mai ab 19 Uhr im Jos Fritz Café. 💬 Wi
 r laden dich ein\, mit uns über Freiburg\, Europa und alles\, was dir sons
 t so auf der Seele brennt\, zu quatschen. Ganz entspannt\, bei ’nem Drink
  – ohne steifes Politik-Gelaber. Einfach vorbeikommen\, Leute treffen\, u
 ns kennenlernen. Wir freuen uns auf dich! 💜
LOCATION:Wilhelmstraße 15/1\, 79098 Freiburg im Breisgau
URL:https://voltdeutschland.org/bw/veranstaltungen/meet-greet-freiburg-mai2
 5
END:VEVENT
END:VCALENDAR
