BEGIN:VCALENDAR
VERSION:2.0
PRODID:-//Volt Europa//Events//EN
CALSCALE:GREGORIAN
METHOD:PUBLISH
BEGIN:VEVENT
UID:meet-greet-freiburg-ap-1763136000@voltdeutschland.org
DTSTAMP:20260424T045728Z
DTSTART;TZID=Europe/Berlin:20251114T170000
DTEND;TZID=Europe/Berlin:20251114T190000
SUMMARY:Meet & Greet Freiburg
DESCRIPTION:Am 14. November um 17 Uhr im Café Hermann Wir sind am Start\, 
 um mit dir über Freiburg\, Europa und alles\, was dich sonst so beschäfti
 gt\, zu quatschen. Ganz entspannt bei ’nem Drink – ohne großes Blabla.
  Schau vorbei\, lern uns kennen und sag Hallo. Wir freuen uns drauf! 💜
LOCATION:Café Hermann\, Wentzingerstraße 15\, 79106 Freiburg im Breisgau
URL:https://voltdeutschland.org/bw/veranstaltungen/meet-greet-freiburg-ap
END:VEVENT
END:VCALENDAR
