BEGIN:VCALENDAR
VERSION:2.0
PRODID:-//Volt Europa//Events//EN
CALSCALE:GREGORIAN
METHOD:PUBLISH
BEGIN:VEVENT
UID:meet-greet-ettlingen-2026-05-02-1777730400@voltdeutschland.org
DTSTAMP:20260423T035656Z
DTSTART;TZID=Europe/Berlin:20260502T160000
DTEND;TZID=Europe/Berlin:20260502T180000
SUMMARY:Meet & Greet Ettlingen
DESCRIPTION:Adresse : Schillerstraße 8\, 76275 Ettlingen Wir freuen uns au
 f viele neue Gesichter und Interessenten   Bei Fragen stehen wir Ihnen ü
 ber die folgende E-Mail-Adresse zur Verfügung.  karlsruhe@voltdeutschland
 .org
LOCATION:Coffee Shop Ettlingen
URL:https://voltdeutschland.org/bw/veranstaltungen/meet-greet-ettlingen-202
 6-05-02
END:VEVENT
END:VCALENDAR
