BEGIN:VCALENDAR
VERSION:2.0
PRODID:-//Volt Europa//Events//EN
CALSCALE:GREGORIAN
METHOD:PUBLISH
BEGIN:VEVENT
UID:meet-greet-esslingen-2025-04-15-1744738200@voltdeutschland.org
DTSTAMP:20260423T044436Z
DTSTART;TZID=Europe/Berlin:20250415T193000
DTEND;TZID=Europe/Berlin:20250415T210000
SUMMARY:Meet & Greet Esslingen
DESCRIPTION:Du willst Volt besser kennenlernen und direkt ins GesprÃ¤ch kom
 men? Dann komm zu unserem Meet & Greet am 15.04.! Wann: 15. April ab 19:30 
 Uhr Wo: LUX - Gastronomie im kommunalen Kino Was dich erwartet: Austausch Ã
 ¼ber unsere PlÃ¤ne\, spannende Themen und wie du uns bei der anstehenden Bu
 ndestagswahl unterstÃ¼tzen kannst Sei dabei\, bring deine Fragen mit und er
 fahre\, wie du Teil der VerÃ¤nderung werden kannst! Gemeinsam schaffen wir 
 eine starke Stimme fÃ¼r Europa!
LOCATION:LUX - Gastronomie im kommunalen Kino\, Maille 4-9\, 73728 Esslinge
 n am Neckar
URL:https://voltdeutschland.org/bw/veranstaltungen/meet-greet-esslingen-202
 5-04-15
END:VEVENT
END:VCALENDAR
