BEGIN:VCALENDAR
VERSION:2.0
PRODID:-//Volt Europa//Events//EN
CALSCALE:GREGORIAN
METHOD:PUBLISH
BEGIN:VEVENT
UID:meet-and-greet-volt-ludwigsburg-mai-1778691600@voltdeutschland.org
DTSTAMP:20260421T184747Z
DTSTART;TZID=Europe/Berlin:20260513T190000
DTEND;TZID=Europe/Berlin:20260513T210000
SUMMARY:Meet and Greet - Volt Ludwigsburg - Mai
DESCRIPTION:Du hast Interesse an Volt und möchtest uns genauer kennenlerne
 n? Dann schaue gerne am 13.05.2026 ab 19 Uhr bei unserem Meet & Greet im Br
 ückenhaus in Ludwigsburg vorbei. Wir freuen uns auf Dich! 💜
LOCATION:Brückenhaus\, Marbacher Straße 220\, 71642 Ludwigsburg
URL:https://voltdeutschland.org/bw/veranstaltungen/meet-and-greet-volt-ludw
 igsburg-mai
END:VEVENT
END:VCALENDAR
