BEGIN:VCALENDAR
VERSION:2.0
PRODID:-//Volt Europa//Events//EN
CALSCALE:GREGORIAN
METHOD:PUBLISH
BEGIN:VEVENT
UID:meet-and-greet-mannheim-2026-02-03-1770138000@voltdeutschland.org
DTSTAMP:20260424T045824Z
DTSTART;TZID=Europe/Berlin:20260203T180000
DTEND;TZID=Europe/Berlin:20260203T200000
SUMMARY:Meet and Greet Mannheim
DESCRIPTION:Triff deine Direktkandidat*innen von Volt für die Landtagswahl
 en in Baden-Württemberg und Rheinland-Pfalz!
LOCATION:Frida Love Café & Restaurant\, G3 6-7\, 68159 Mannheim
URL:https://voltdeutschland.org/bw/veranstaltungen/meet-and-greet-mannheim-
 2026-02-03
END:VEVENT
END:VCALENDAR
