BEGIN:VCALENDAR
VERSION:2.0
PRODID:-//Volt Europa//Events//EN
CALSCALE:GREGORIAN
METHOD:PUBLISH
BEGIN:VEVENT
UID:meet-and-greet-ludwigshafen-2026-02-11-1771003800@voltdeutschland.org
DTSTAMP:20260424T045910Z
DTSTART;TZID=Europe/Berlin:20260213T183000
DTEND;TZID=Europe/Berlin:20260213T203000
SUMMARY:Meet and Greet Ludwigshafen
DESCRIPTION:Triff deine Direktkandidat*innen von Volt für die Landtagswahl
 en in Rheinland-Pfalz und Baden-Württemberg!
LOCATION:Dong Que\, Ludwigstraße 73\, 67059 Ludwigshafen
URL:https://voltdeutschland.org/bw/veranstaltungen/meet-and-greet-ludwigsha
 fen-2026-02-11
END:VEVENT
END:VCALENDAR
