BEGIN:VCALENDAR
VERSION:2.0
PRODID:-//Volt Europa//Events//EN
CALSCALE:GREGORIAN
METHOD:PUBLISH
BEGIN:VEVENT
UID:meet-and-greet-hochrhein-24-04-2025-1777053600@voltdeutschland.org
DTSTAMP:20260421T101636Z
DTSTART;TZID=Europe/Berlin:20260424T200000
DTEND;TZID=Europe/Berlin:20260424T220000
SUMMARY:Meet and Greet Hochrhein
DESCRIPTION:
LOCATION:OSCARS Bad Säckingen\, Bahnhofplatz 1 79713 Bad Säckingen
URL:https://voltdeutschland.org/bw/veranstaltungen/meet-and-greet-hochrhein
 -24-04-2025
END:VEVENT
END:VCALENDAR
