BEGIN:VCALENDAR
VERSION:2.0
PRODID:-//Volt Europa//Events//EN
CALSCALE:GREGORIAN
METHOD:PUBLISH
BEGIN:VEVENT
UID:karlsruhe-infostand-durlach-03-07-1772884800@voltdeutschland.org
DTSTAMP:20260424T175143Z
DTSTART;TZID=Europe/Berlin:20260307T130000
DTEND;TZID=Europe/Berlin:20260307T170000
SUMMARY:Infostand Durlach Marktplatz
DESCRIPTION:
LOCATION:Durlach Marktplatz\, Karlsruhe
URL:https://voltdeutschland.org/bw/veranstaltungen/karlsruhe-infostand-durl
 ach-03-07
END:VEVENT
END:VCALENDAR
