BEGIN:VCALENDAR
VERSION:2.0
PRODID:-//Volt Europa//Events//EN
CALSCALE:GREGORIAN
METHOD:PUBLISH
BEGIN:VEVENT
UID:karlsruhe-europatag-volt-infostand-abendprogramm-1746795600@voltdeutsch
 land.org
DTSTAMP:20260423T194850Z
DTSTART;TZID=Europe/Berlin:20250509T150000
DTEND;TZID=Europe/Berlin:20250509T220000
SUMMARY:Karlsruhe Europatag Volt Infostand + Abendprogramm
DESCRIPTION:
LOCATION:Marktplatz\, 76133 Karlsruhe\, Germany
URL:https://voltdeutschland.org/bw/veranstaltungen/karlsruhe-europatag-volt
 -infostand-abendprogramm
END:VEVENT
END:VCALENDAR
