BEGIN:VCALENDAR
VERSION:2.0
PRODID:-//Volt Europa//Events//EN
CALSCALE:GREGORIAN
METHOD:PUBLISH
BEGIN:VEVENT
UID:kandidaten-vorstellung-ob-wahl-2026-1768845600@voltdeutschland.org
DTSTAMP:20260423T124520Z
DTSTART;TZID=Europe/Berlin:20260119T190000
DTEND;TZID=Europe/Berlin:20260119T200000
SUMMARY:Kandidaten-Vorstellung OB-Wahl 2026 (Böblingen)
DESCRIPTION:
LOCATION:Kongresshalle Böblingen Ida-Ehre-Platz 71032 Böblingen
URL:https://voltdeutschland.org/bw/veranstaltungen/kandidaten-vorstellung-o
 b-wahl-2026
END:VEVENT
END:VCALENDAR
