BEGIN:VCALENDAR
VERSION:2.0
PRODID:-//Volt Europa//Events//EN
CALSCALE:GREGORIAN
METHOD:PUBLISH
BEGIN:VEVENT
UID:kandidaten-vorstellung-ob-wahl-2026-1-1768932000@voltdeutschland.org
DTSTAMP:20260423T123802Z
DTSTART;TZID=Europe/Berlin:20260120T190000
DTEND;TZID=Europe/Berlin:20260120T200000
SUMMARY:Kandidaten-Vorstellung OB-Wahl 2026 (Dagersheim)
DESCRIPTION:
LOCATION:Festhalle Dagersheim Hauptstraße 22\, 71034 Böblingen
URL:https://voltdeutschland.org/bw/veranstaltungen/kandidaten-vorstellung-o
 b-wahl-2026-1
END:VEVENT
END:VCALENDAR
