BEGIN:VCALENDAR
VERSION:2.0
PRODID:-//Volt Europa//Events//EN
CALSCALE:GREGORIAN
METHOD:PUBLISH
BEGIN:VEVENT
UID:kampagnenauftakt-fuer-volt-bw-1769623200@voltdeutschland.org
DTSTAMP:20260423T195107Z
DTSTART;TZID=Europe/Berlin:20260128T190000
DTEND;TZID=Europe/Berlin:20260128T220000
SUMMARY:Kampagnenauftakt für Volt BW
DESCRIPTION:💜 Es geht los – der Auftakt für echten Fortschritt! 💛 
 Am 28. Januar 2026 starten wir gemeinsam in den Wahlkampf zur Landtagswahl 
 Baden-Württemberg – und du solltest dabei sein! Mit unserem Spitzen-Duo 
 Celine Hirschka (Landesliste Platz 1) und Mike Matthes (Landesliste Platz 2
 ) setzen wir ein klares Zeichen für ein mutiges\, europäisches und lösun
 gsorientiertes Baden-Württemberg. 👉 Du bist Mitglied? Komm vorbei\, bri
 ng Energie mit und zeig: Wir sind viele\, wir sind motiviert\, wir sind ber
 eit! 👉 Du 
LOCATION:Kulturzentrum Merlin\, Augustenstraße 72\, 70178 Stuttgart
URL:https://voltdeutschland.org/bw/veranstaltungen/kampagnenauftakt-fuer-vo
 lt-bw
END:VEVENT
END:VCALENDAR
