BEGIN:VCALENDAR
VERSION:2.0
PRODID:-//Volt Europa//Events//EN
CALSCALE:GREGORIAN
METHOD:PUBLISH
BEGIN:VEVENT
UID:infostand-wochenmarkt-schorndorf-1772870400@voltdeutschland.org
DTSTAMP:20260424T175143Z
DTSTART;TZID=Europe/Berlin:20260307T090000
DTEND;TZID=Europe/Berlin:20260307T120000
SUMMARY:Infostand Wochenmarkt Schorndorf
DESCRIPTION:Du willst unseren Direktkandidaten Sven Schmidt für den Wahlkr
 eis 16 Schorndorf kennenlernen oder dich allgemein über Volt und die Landt
 agswahl informieren? Dann komm bei uns am Infostand vorbei - wir freuen uns
  auf Dich!
LOCATION:73614 Schorndorf\, Marktplatz
URL:https://voltdeutschland.org/bw/veranstaltungen/infostand-wochenmarkt-sc
 horndorf
END:VEVENT
END:VCALENDAR
