BEGIN:VCALENDAR
VERSION:2.0
PRODID:-//Volt Europa//Events//EN
CALSCALE:GREGORIAN
METHOD:PUBLISH
BEGIN:VEVENT
UID:infostand-wochenmarkt-backnang-1-1772265600@voltdeutschland.org
DTSTAMP:20260425T121604Z
DTSTART;TZID=Europe/Berlin:20260228T090000
DTEND;TZID=Europe/Berlin:20260228T140000
SUMMARY:Infostand Wochenmarkt Backnang
DESCRIPTION:Du willst unsere Direktkandidatin für den Wahlkreis 17 in Back
 nang kennenlernen oder dich allgemein über Volt und die Landtagswahl infor
 mieren? Dann komm bei uns am Infostand vorbei - wir freuen uns auf Dich!
LOCATION:71522 Backnang\, Hermann-Krimmer-Weg
URL:https://voltdeutschland.org/bw/veranstaltungen/infostand-wochenmarkt-ba
 cknang-1
END:VEVENT
END:VCALENDAR
