BEGIN:VCALENDAR
VERSION:2.0
PRODID:-//Volt Europa//Events//EN
CALSCALE:GREGORIAN
METHOD:PUBLISH
BEGIN:VEVENT
UID:infostand-waldbronn-1770969600@voltdeutschland.org
DTSTAMP:20260424T045729Z
DTSTART;TZID=Europe/Berlin:20260213T090000
DTEND;TZID=Europe/Berlin:20260213T120000
SUMMARY:Infostand Waldbronn
DESCRIPTION:Besuche uns auf unserem Infostand in Waldbronn mit unserem Dire
 ktkandidaten für den Wahlkreis Ettlingen: Markus Schulz-Ritz.
LOCATION:Waldbronn
URL:https://voltdeutschland.org/bw/veranstaltungen/infostand-waldbronn
END:VEVENT
END:VCALENDAR
