BEGIN:VCALENDAR
VERSION:2.0
PRODID:-//Volt Europa//Events//EN
CALSCALE:GREGORIAN
METHOD:PUBLISH
BEGIN:VEVENT
UID:infostand-volt-ob-wahl-boeblingen-1-1-1769236200@voltdeutschland.org
DTSTAMP:20260423T124622Z
DTSTART;TZID=Europe/Berlin:20260124T073000
DTEND;TZID=Europe/Berlin:20260124T110000
SUMMARY:Infostand Volt (OB Wahl Böblingen)
DESCRIPTION:Die Oberbürgermeisterwahlen in Böblingen rücken immer näher
 . Ergreifen sie die Chance direkt mit den Kandidaten von Volt zu reden. All
 es soll\, darf um muss angesprochen werden. Zwar kann man sich immer digita
 l austauschen aber es ist doch anderes wenn man vor Ort ist.
LOCATION:Pestalozzistraße 7\, 71032 Böblingen
URL:https://voltdeutschland.org/bw/veranstaltungen/infostand-volt-ob-wahl-b
 oeblingen-1-1
END:VEVENT
END:VCALENDAR
