BEGIN:VCALENDAR
VERSION:2.0
PRODID:-//Volt Europa//Events//EN
CALSCALE:GREGORIAN
METHOD:PUBLISH
BEGIN:VEVENT
UID:infostand-pfinztal-03-06-1772874000@voltdeutschland.org
DTSTAMP:20260424T175032Z
DTSTART;TZID=Europe/Berlin:20260307T100000
DTEND;TZID=Europe/Berlin:20260307T140000
SUMMARY:Infostand Pfinztal
DESCRIPTION:Besuche uns auf unserem Infostand in Pfinztal mit unserem Direk
 tkandidaten Markus.
LOCATION:neben Wochenmarkt Berghausen
URL:https://voltdeutschland.org/bw/veranstaltungen/infostand-pfinztal-03-06
END:VEVENT
END:VCALENDAR
