BEGIN:VCALENDAR
VERSION:2.0
PRODID:-//Volt Europa//Events//EN
CALSCALE:GREGORIAN
METHOD:PUBLISH
BEGIN:VEVENT
UID:infostand-mannheim-2026-03-07-1772877600@voltdeutschland.org
DTSTAMP:20260424T175015Z
DTSTART;TZID=Europe/Berlin:20260307T110000
DTEND;TZID=Europe/Berlin:20260307T160000
SUMMARY:Infostand Mannheim
DESCRIPTION:Unser nächster Infostand für Mannheim. Du hast Fragen zu uns 
 und unseren Positionen zur Landespolitik? Dann komm vorbei und spreche mit 
 unseren Direktkandidat:innen!
LOCATION:Marktplatz Lindenhof\, Meeräckerplatz\, 68163 Mannheim
URL:https://voltdeutschland.org/bw/veranstaltungen/infostand-mannheim-2026-
 03-07
END:VEVENT
END:VCALENDAR
