BEGIN:VCALENDAR
VERSION:2.0
PRODID:-//Volt Europa//Events//EN
CALSCALE:GREGORIAN
METHOD:PUBLISH
BEGIN:VEVENT
UID:infostand-freudenstadt-2025-11-01-1761987600@voltdeutschland.org
DTSTAMP:20260421T100544Z
DTSTART;TZID=Europe/Berlin:20251101T100000
DTEND;TZID=Europe/Berlin:20251101T130000
SUMMARY:Infostand Freudenstadt
DESCRIPTION:Triff uns am Samstag\, dem 1. November\, auf dem Freudenstädte
 r Marktplatz an den Fontänen zwischen 10:00 und 13:00 Uhr. 🟣 Du erkenns
 t uns an unserem violetten Infostand.
LOCATION:Marktplatz Freudenstadt an den Fontänen
URL:https://voltdeutschland.org/bw/veranstaltungen/infostand-freudenstadt-2
 025-11-01
END:VEVENT
END:VCALENDAR
