BEGIN:VCALENDAR
VERSION:2.0
PRODID:-//Volt Europa//Events//EN
CALSCALE:GREGORIAN
METHOD:PUBLISH
BEGIN:VEVENT
UID:infostand-ettlingen-14-02-1771056000@voltdeutschland.org
DTSTAMP:20260424T045818Z
DTSTART;TZID=Europe/Berlin:20260214T090000
DTEND;TZID=Europe/Berlin:20260214T140000
SUMMARY:Infostand Ettlingen
DESCRIPTION:Besuche uns auf unserem Infostand in Ettlingen mit unserem Dire
 ktkandidaten für den Wahlkreis Ettlingen: Markus Schulz-Ritz.
LOCATION:Schlossplatz Ettlingen
URL:https://voltdeutschland.org/bw/veranstaltungen/infostand-ettlingen-14-0
 2
END:VEVENT
END:VCALENDAR
