BEGIN:VCALENDAR
VERSION:2.0
PRODID:-//Volt Europa//Events//EN
CALSCALE:GREGORIAN
METHOD:PUBLISH
BEGIN:VEVENT
UID:infostand-ettlingen-03-07-1772870400@voltdeutschland.org
DTSTAMP:20260424T175032Z
DTSTART;TZID=Europe/Berlin:20260307T090000
DTEND;TZID=Europe/Berlin:20260307T140000
SUMMARY:Infostand Ettlingen
DESCRIPTION:Besuche uns auf unserem Infostand in Ettlingen mit unserem Dire
 ktkandidaten für den Wahlkreis Ettlingen: Markus Schulz-Ritz.
LOCATION:vor dem Schloss in Ettlingen
URL:https://voltdeutschland.org/bw/veranstaltungen/infostand-ettlingen-03-0
 7
END:VEVENT
END:VCALENDAR
