BEGIN:VCALENDAR
VERSION:2.0
PRODID:-//Volt Europa//Events//EN
CALSCALE:GREGORIAN
METHOD:PUBLISH
BEGIN:VEVENT
UID:csd-heilbronn-2025-1751698800@voltdeutschland.org
DTSTAMP:20260423T194651Z
DTSTART;TZID=Europe/Berlin:20250705T090000
DTEND;TZID=Europe/Berlin:20250705T140000
SUMMARY:Europa-Ball 2026
DESCRIPTION:Am  Samstag\, 9. Mai 2026 \, lädt die Europa-Union Heilbronn z
 um  Europa-Ball 2026  in die Harmonie Heilbronn ein – von 17:30 bis 21:30
  Uhr erwartet euch ein festlicher Abend mit Tanz\, Musik und europäischem 
 Flair. Volt Heilbronn ist mit einem eigenen Infostand im Foyer dabei – ko
 mmt vorbei\, tanzt mit uns und redet über Europa! 💜
LOCATION:Harmonie Heilbronn
URL:https://voltdeutschland.org/bw/veranstaltungen/csd-heilbronn-2025
END:VEVENT
END:VCALENDAR
