BEGIN:VCALENDAR
VERSION:2.0
PRODID:-//Volt Europa//Events//EN
CALSCALE:GREGORIAN
METHOD:PUBLISH
BEGIN:VEVENT
UID:arbeitstreffen-pforzheim-2025-06-30-1751302800@voltdeutschland.org
DTSTAMP:20260423T123715Z
DTSTART;TZID=Europe/Berlin:20250630T190000
DTEND;TZID=Europe/Berlin:20250630T200000
SUMMARY:Mittmach Montag\, Volt Pforzheim
DESCRIPTION:Beteilige Dich an guter Politik für die Region und Europa. Das
  City-Team aus Pforzheim & Enzkreis freut sich auf Dich!
LOCATION:Online Meeting
URL:https://voltdeutschland.org/bw/veranstaltungen/arbeitstreffen-pforzheim
 -2025-06-30
END:VEVENT
END:VCALENDAR
