BEGIN:VCALENDAR
VERSION:2.0
PRODID:-//Volt Europa//Events//EN
CALSCALE:GREGORIAN
METHOD:PUBLISH
BEGIN:VEVENT
UID:arbeitstreffen-karlsruhe-2026-04-13-1-1777309200@voltdeutschland.org
DTSTAMP:20260423T035609Z
DTSTART;TZID=Europe/Berlin:20260427T190000
DTEND;TZID=Europe/Berlin:20260427T203000
SUMMARY:Arbeitstreffen Karlsruhe
DESCRIPTION:
LOCATION:Kairos13
URL:https://voltdeutschland.org/bw/veranstaltungen/arbeitstreffen-karlsruhe
 -2026-04-13-1
END:VEVENT
END:VCALENDAR
