BEGIN:VCALENDAR
VERSION:2.0
PRODID:-//Volt Europa//Events//EN
CALSCALE:GREGORIAN
METHOD:PUBLISH
BEGIN:VEVENT
UID:arbeitstreffen-karlsruhe-2026-02-02-1770055200@voltdeutschland.org
DTSTAMP:20260423T195014Z
DTSTART;TZID=Europe/Berlin:20260202T190000
DTEND;TZID=Europe/Berlin:20260202T203000
SUMMARY:Arbeitstreffen Karlsruhe
DESCRIPTION:
LOCATION:Kairos13
URL:https://voltdeutschland.org/bw/veranstaltungen/arbeitstreffen-karlsruhe
 -2026-02-02
END:VEVENT
END:VCALENDAR
