BEGIN:VCALENDAR
VERSION:2.0
PRODID:-//Volt Europa//Events//EN
CALSCALE:GREGORIAN
METHOD:PUBLISH
BEGIN:VEVENT
UID:arbeitsmeeting-konstanz-1775754000@voltdeutschland.org
DTSTAMP:20260421T101133Z
DTSTART;TZID=Europe/Berlin:20260409T190000
DTEND;TZID=Europe/Berlin:20260409T220000
SUMMARY:Meet&Greet Konstanz
DESCRIPTION:Trefft uns im Constanzer Wirtshaus. Jeder ist dazu herzlich wil
 lkommen sich uns anzuschließen um mit uns über Politik zu diskutieren und
  uns kennenzulernen.
LOCATION:Constanzer Wirtshaus\, Spanierstraße 3\, 78467 Konstanz
URL:https://voltdeutschland.org/bw/veranstaltungen/arbeitsmeeting-konstanz
END:VEVENT
END:VCALENDAR
