BEGIN:VCALENDAR
VERSION:2.0
PRODID:-//Volt Europa//Events//EN
CALSCALE:GREGORIAN
METHOD:PUBLISH
BEGIN:VEVENT
UID:3-jahre-bis-zur-naechsten-wahl-3-jahre-zeit-was-zu-veraendern-stuttgart
 er-strategieworkshop-1777395600@voltdeutschland.org
DTSTAMP:20260422T041818Z
DTSTART;TZID=Europe/Berlin:20260428T190000
DTEND;TZID=Europe/Berlin:20260428T213000
SUMMARY:â€ž3 Jahre bis zur nÃ¤chsten Wahl - 3 Jahre Zeit was zu verÃ¤ndernâ
 €œ - Stuttgarter Strategieworkshop
DESCRIPTION:Du mÃ¶chtest mit anpacken und VerÃ¤nderung vorantreiben? Du has
 t Ideen\, wie wir uns verbessern kÃ¶nnen? Dann bist du am 28.04 ab 19 Uhr i
 m alten Feuerwehrhaus bei unserem Workshop genau richtig! Wir starten in di
 e kommenden 3 Jahre und blicken darauf\, was wir bis dahin alles erreichen 
 wollen. Schau gerne einfach vorbei\, wir freuen uns auf alle\, die dazu sto
 ÃŸen. Jede*r ist ðŸ’œ-lich eingeladen. (barrierefreier Zugang\, kostenlose 
 Veranstaltung\, kein Konsumzwang)
LOCATION:Altes Feuerwehrhaus SÃ¼d\, 1. OG\, MÃ¶hringer Str. 56\, 70199 Stut
 tgart
URL:https://voltdeutschland.org/bw/veranstaltungen/3-jahre-bis-zur-naechste
 n-wahl-3-jahre-zeit-was-zu-veraendern-stuttgarter-strategieworkshop
END:VEVENT
END:VCALENDAR
