BEGIN:VCALENDAR
VERSION:2.0
PRODID:-//Volt Europa//Events//EN
CALSCALE:GREGORIAN
METHOD:PUBLISH
BEGIN:VEVENT
UID:volt-stadtfuehrung-1778418000@voltdeutschland.org
DTSTAMP:20260425T170813Z
DTSTART;TZID=Europe/Berlin:20260510T150000
DTEND;TZID=Europe/Berlin:20260510T173000
SUMMARY:Volt Stadtführung
DESCRIPTION:Wir laden euch zu einer offenen Führung durch die Bremer Innen
 stadt ein. Gemeinsam werfen wir einen Blick auf Orte\, an denen europäisch
 e Geschichte in Bremen sichtbar wird – von historischen Verbindungen bis 
 zu aktuellen Bezügen.Wir laden euch zu einer offenen Führung durch die Br
 emer Innenstadt ein. Gemeinsam werfen wir einen Blick auf Orte\, an denen e
 uropäische Geschichte in Bremen sichtbar wird – von historischen Verbind
 ungen bis zu aktuellen Bezügen.
LOCATION:Bremer Marktplatz - Treffen am Roland
URL:https://voltdeutschland.org/bremen/veranstaltungen/volt-stadtfuehrung
END:VEVENT
END:VCALENDAR
