BEGIN:VCALENDAR
VERSION:2.0
PRODID:-//Volt Europa//Events//EN
CALSCALE:GREGORIAN
METHOD:PUBLISH
BEGIN:VEVENT
UID:offenes-treffen-volt-bremen-3-1721149200@voltdeutschland.org
DTSTAMP:20260425T170813Z
DTSTART;TZID=Europe/Berlin:20240716T190000
DTEND;TZID=Europe/Berlin:20240716T210000
SUMMARY:Offenes Treffen Volt Bremen
DESCRIPTION:Jeden zweiten Dienstag treffen wir uns ab 19:00 Uhr im Neusi's 
 in der Neustadt\, einem Bike-Repair Cafe vor der Hochschule Langemarckstras
 se 116. Wann genau der nächste Termin ist\, erfährst du auch auf unseren 
 Social Media Kanälen. Kommt gerne dazu\, wenn ihr uns kennenlernen und vie
 lleicht selbst politisch aktiv werden möchtet!
LOCATION:Neusis (Langemarckstrasse 116\, 28199 Bremen)
URL:https://voltdeutschland.org/bremen/veranstaltungen/offenes-treffen-volt
 -bremen-3
END:VEVENT
END:VCALENDAR
