BEGIN:VCALENDAR
VERSION:2.0
PRODID:-//Volt Europa//Events//EN
CALSCALE:GREGORIAN
METHOD:PUBLISH
BEGIN:VEVENT
UID:europaeisches-mitmachpicknick-1778943600@voltdeutschland.org
DTSTAMP:20260425T170834Z
DTSTART;TZID=Europe/Berlin:20260516T170000
DTEND;TZID=Europe/Berlin:20260516T190000
SUMMARY:Europäisches Mitmachpicknick
DESCRIPTION:Wir treffen uns zu einem offenen\, paneuropäischen Picknick am
  Osterdeich. Bringt gern etwas zu essen oder zu trinken mit und setzt euch 
 einfach dazu. Neben guten Gesprächen gibt es ein paar Europaspiele und ein
 fach die Gelegenheit\, gemeinsam eine entspannte Zeit zu verbringen.
LOCATION:Bremen Osterdeich - Treffen neben dem Kunsttunnel
URL:https://voltdeutschland.org/bremen/veranstaltungen/europaeisches-mitmac
 hpicknick
END:VEVENT
END:VCALENDAR
