BEGIN:VCALENDAR
VERSION:2.0
PRODID:-//Volt Europa//Events//EN
CALSCALE:GREGORIAN
METHOD:PUBLISH
BEGIN:VEVENT
UID:bremerhaven-in-europa-1780048800@voltdeutschland.org
DTSTAMP:20260425T171018Z
DTSTART;TZID=Europe/Berlin:20260529T120000
DTEND;TZID=Europe/Berlin:20260529T160000
SUMMARY:Bremerhaven in Europa
DESCRIPTION:In der Fußgängerzone laden wir euch zu einer kleinen Mitmacha
 ktion rund um Europa ein. Auf einer großen Europakarte könnt ihr markiere
 n\, wo eure Wurzeln liegen oder welche Orte euch besonders verbinden.
LOCATION:Bürgermeister-Smidt-Straße\, Bremerhaven
URL:https://voltdeutschland.org/bremen/veranstaltungen/bremerhaven-in-europ
 a
END:VEVENT
END:VCALENDAR
