BEGIN:VCALENDAR
VERSION:2.0
PRODID:-//Volt Europa//Events//EN
CALSCALE:GREGORIAN
METHOD:PUBLISH
BEGIN:VEVENT
UID:meet-greet-wolfenbuettel-de-080325-1741453200@voltdeutschland.org
DTSTAMP:20260424T045728Z
DTSTART;TZID=Europe/Berlin:20250308T180000
DTEND;TZID=Europe/Berlin:20250308T210000
SUMMARY:Deutschlandweites Meet & Greet Wolfenbüttel
DESCRIPTION:Am 08.03.2025 laden wir herzlich zu unserem deutschlandweiten M
 eet & Greet in Wolfenbüttel ein. Ihr findet uns um 18:00 Uhr in der Verän
 der.Bar. Das bedeutet\, dass in ganz Deutschland am selben Tag Meet & Greet
 s stattfinden und du einfach zu dem gehen kannst\, das in deiner Nähe ist.
  Dort kannst du mehr über Volt erfahren. Wir freuen uns auf DICH!
LOCATION:Veränder.Bar\, Kreuzstraße 13\, 38300 Wolfenbüttel
URL:https://voltdeutschland.org/niedersachsen/veranstaltungen/meet-greet-wo
 lfenbuettel-de-080325
END:VEVENT
END:VCALENDAR
