BEGIN:VCALENDAR
VERSION:2.0
PRODID:-//Volt Europa//Events//EN
CALSCALE:GREGORIAN
METHOD:PUBLISH
BEGIN:VEVENT
UID:meet-greet-braunschweig-190226-1771527600@voltdeutschland.org
DTSTAMP:20260424T001606Z
DTSTART;TZID=Europe/Berlin:20260219T200000
DTEND;TZID=Europe/Berlin:20260219T220000
SUMMARY:Meet & Greet Braunschweig
DESCRIPTION:Am  Donnerstag\, 19.02.  findet ein zusätzliches Meet & Greet 
 in Braunschweig im Michaelishof statt! Du möchtest Volt kennenlernen? Komm
  dafür  ab 20 Uhr  in die Kneipe des Studentenwohnheims Michaelishof (Gül
 denstraße 8\, 38100 Braunschweig) und lerne Volt und das Volt Team aus Bra
 unschweig kennen!  Wir freuen uns auf dich! Das Meet & Greet findet regulä
 r alle zwei Wochen Dienstags statt. Wenn du also nicht kannst\, kannst du g
 erne zu unseren anderen Terminen kommen.
LOCATION:Michaelishof\, Güldenstraße 8\, 38100 Braunschweig
URL:https://voltdeutschland.org/braunschweig/veranstaltungen/meet-greet-bra
 unschweig-190226
END:VEVENT
END:VCALENDAR
