BEGIN:VCALENDAR
VERSION:2.0
PRODID:-//Volt Europa//Events//EN
CALSCALE:GREGORIAN
METHOD:PUBLISH
BEGIN:VEVENT
UID:meet-greet-braunschweig-100226-1770746400@voltdeutschland.org
DTSTAMP:20260424T001729Z
DTSTART;TZID=Europe/Berlin:20260210T190000
DTEND;TZID=Europe/Berlin:20260210T220000
SUMMARY:Meet & Greet Braunschweig
DESCRIPTION:Am 10.02. findet unser Meet & Greet in Braunschweig statt! Du m
 öchtest Volt kennenlernen? Komm dafür ab 19 Uhr in das Riptide (Ölschlä
 gern 14\, 38100 Braunschweig) und lerne Volt und das Volt Team aus Braunsch
 weig kennen!  Wir freuen uns auf dich! Das Meet & Greet findet alle zwei Wo
 chen statt! Wenn du also einmal nicht kannst\, kannst du gerne zu unseren a
 nderen Terminen kommen.
LOCATION:Riptide\, Ölschlägern 14\, 38100 Braunschweig
URL:https://voltdeutschland.org/braunschweig/veranstaltungen/meet-greet-bra
 unschweig-100226
END:VEVENT
END:VCALENDAR
