BEGIN:VCALENDAR
VERSION:2.0
PRODID:-//Volt Europa//Events//EN
CALSCALE:GREGORIAN
METHOD:PUBLISH
BEGIN:VEVENT
UID:infostand-wolfenbuettel-150225-1739610000@voltdeutschland.org
DTSTAMP:20260424T045819Z
DTSTART;TZID=Europe/Berlin:20250215T100000
DTEND;TZID=Europe/Berlin:20250215T180000
SUMMARY:Infostand Wolfenbüttel
DESCRIPTION:Am 15.02. haben wir einen Infostand in der Löwenstraße. Ihr h
 abt noch Fragen zu Volt und unserem Wahlprogramm\, oder möchtet gerne mit 
 unserer Direktkandidatin Nadine ins Gespräch kommen? Dann kommt gerne vorb
 ei! Wir freuen uns auf euch 💜
LOCATION:Löwenstraße\, 38300 Wolfenbüttel
URL:https://voltdeutschland.org/niedersachsen/veranstaltungen/infostand-wol
 fenbuettel-150225
END:VEVENT
END:VCALENDAR
