BEGIN:VCALENDAR
VERSION:2.0
PRODID:-//Volt Europa//Events//EN
CALSCALE:GREGORIAN
METHOD:PUBLISH
BEGIN:VEVENT
UID:meeting-partei-260618-1781802000@voltdeutschland.org
DTSTAMP:20260421T101430Z
DTSTART;TZID=Europe/Berlin:20260618T190000
DTEND;TZID=Europe/Berlin:20260618T210000
SUMMARY:Volt Bonn Parteimeeting - Planung und Diskussion
DESCRIPTION:Alle acht Wochen triftt sich die Partei Volt Bonn zu einem Meet
 ing. Hier berichten wir über die letzten Aktivitäten\, besprechen zukünf
 tige Aktionen und Aufgaben\, teilen Teams ein und Zuständigkeiten auf. Das
  Meeting findet abwechselnd an verschiedenen Wochentagen statt\, sodass mö
 glichst jeder ab und zu teilnehmen kann. Interessierte und neue Mitglieder 
 sind ausdrücklich willkommen\, auch um Volt und ihre Menschen einfach nur 
 mal kennenzulernen. Bitte meldet euch dann an unter  bonn@voltnordrheinw
LOCATION:Migrapolis Café\, Brüdergasse 16-18\, 53111 Bonn
URL:https://voltdeutschland.org/bonn/veranstaltungen/meeting-partei-260618
END:VEVENT
END:VCALENDAR
