BEGIN:VCALENDAR
VERSION:2.0
PRODID:-//Volt Europa//Events//EN
CALSCALE:GREGORIAN
METHOD:PUBLISH
BEGIN:VEVENT
UID:infostand-260501-1777629600@voltdeutschland.org
DTSTAMP:20260421T101307Z
DTSTART;TZID=Europe/Berlin:20260501T120000
DTEND;TZID=Europe/Berlin:20260501T153000
SUMMARY:Info- und Austauschstand zum 1. Mai
DESCRIPTION:Der 1. Mai ist der "Tag der Arbeit". Auf Einladung des DGB ist 
 Volt mit einem Infostand auf dem Marktplatz dabei. Von 12:00 bis 15:30 Uhr 
 stehen wir euch Rede und Antwort. Diskussionen zu gerechter Arbeit und was 
 wir dabei auf kommunaler Ebene machen können und sollten wollen wir mit eu
 ch vor Ort führen! Wir freuen uns auf euch\, sind sehr nett und immer gut 
 gelaunt!⁠ Schaut einfach vorbei!
LOCATION:Marktplatz\, Bonn
URL:https://voltdeutschland.org/bonn/veranstaltungen/infostand-260501
END:VEVENT
END:VCALENDAR
