BEGIN:VCALENDAR
VERSION:2.0
PRODID:-//Volt Europa//Events//EN
CALSCALE:GREGORIAN
METHOD:PUBLISH
BEGIN:VEVENT
UID:infostand-260430-1777532400@voltdeutschland.org
DTSTAMP:20260421T101047Z
DTSTART;TZID=Europe/Berlin:20260430T090000
DTEND;TZID=Europe/Berlin:20260430T130000
SUMMARY:Info- und Austauschstand in Bad Godesberg
DESCRIPTION:Diskutiere vor Ort mit Volt Am 30. Mai sind wir mit unserem Inf
 ostand auf dem Theaterplatz in Bad Godesberg. Von 09:00 bis 13:00 Uhr stehe
 n wir euch Rede und Antwort. Was macht Volt im Stadtrat und in der Bezirksv
 ertretung? Brauchen wir einen Bürger*innenrat zur Zukunft der Bonner Bühn
 en? Wir freuen uns auf euch\, sind sehr nett und immer gut gelaunt!⁠ Scha
 ut einfach vorbei!
LOCATION:Theaterplatz\, Bad Godesberg
URL:https://voltdeutschland.org/bonn/veranstaltungen/infostand-260430
END:VEVENT
END:VCALENDAR
