BEGIN:VCALENDAR
VERSION:2.0
PRODID:-//Volt Europa//Events//EN
CALSCALE:GREGORIAN
METHOD:PUBLISH
BEGIN:VEVENT
UID:buergerinnenrat-fuer-die-bonner-buehnen-diskussion-mit-expertinnen-1779
 379200@voltdeutschland.org
DTSTAMP:20260421T101816Z
DTSTART;TZID=Europe/Berlin:20260521T180000
DTEND;TZID=Europe/Berlin:20260521T200000
SUMMARY:Bürger*innenrat für die Bonner Bühnen? Diskussion mit Expert*inn
 en
DESCRIPTION:Komm mit uns ins Gespräch über Bürger*innenräte – ein For
 mat\, das echte Menschen in echte Entscheidungen einbindet. Mit Gästen\, d
 ie wissen\, wie es geht. Und mit dir\, weil deine Meinung zählt. Ein Bürg
 er*innenrat bietet die Chance\, Bürgerinnen und Bürger in wichtige Entsch
 eidungen einzubinden. Wir sprechen darüber\, wie das gelingt und wie wir e
 s für die "Zukunft der Bonner Bühnen" anwenden wollen. Unsere Gäste mit 
 Erfahrungsberichten und für die Diskussion: Gereon Hermens\, Mit-Initiator
  der Bürge
LOCATION:The 9th\, Sandkaule 9-11\, 53111 Bonn
URL:https://voltdeutschland.org/bonn/veranstaltungen/buergerinnenrat-fuer-d
 ie-bonner-buehnen-diskussion-mit-expertinnen
END:VEVENT
END:VCALENDAR
