BEGIN:VCALENDAR
VERSION:2.0
PRODID:-//Volt Europa//Events//EN
CALSCALE:GREGORIAN
METHOD:PUBLISH
BEGIN:VEVENT
UID:austauschstand-auf-dem-europatag-1778313600@voltdeutschland.org
DTSTAMP:20260421T101735Z
DTSTART;TZID=Europe/Berlin:20260509T100000
DTEND;TZID=Europe/Berlin:20260509T160000
SUMMARY:Info- und Austauschstand auf dem Europatag
DESCRIPTION:Alljährlich am 9. Mai wird in ganz Europa der Europatag begang
 en. Auch Bonn feiert mit! Als Europapartei ist Volt natürlich auch mit ein
 em Stand dabei. Kommt vorbei\, mit Freund*innen\, Kindern\, Familie - es gi
 bt viel zu entdecken.  Wir wollen diese Gelegenheit nutzen und mit den Bonn
 er*innen ins Gespräch kommen: Warum ist Europa wichtig\, auch und gerade f
 ür Bonn? Was ist dran an den Mythen um europäische Politik? Wie profitier
 t jeder von uns durch Europa? Wir freuen uns auf euch\, sind sehr nett u
LOCATION:Marktplatz\, Bonn
URL:https://voltdeutschland.org/bonn/veranstaltungen/austauschstand-auf-dem
 -europatag
END:VEVENT
END:VCALENDAR
