BEGIN:VCALENDAR
VERSION:2.0
PRODID:-//Volt Europa//Events//EN
CALSCALE:GREGORIAN
METHOD:PUBLISH
BEGIN:VEVENT
UID:xhain-treffen-2026-02-05-1770314400@voltdeutschland.org
DTSTAMP:20260423T194947Z
DTSTART;TZID=Europe/Berlin:20260205T190000
DTEND;TZID=Europe/Berlin:20260205T210000
SUMMARY:Bezirkstreffen Friedrichshain-Kreuzberg
DESCRIPTION:Du willst Politik neu denken - offen\, pragmatisch und europäi
 sch? Dann komm zu unserem regelmäßigen  Volt-Treffen in Friedrichshain-Kr
 euzberg  und bring deine Ideen mit! Ob du einfach mal reinschnuppern oder d
 irekt mitdiskutieren willst - bei uns bist du willkommen. Gemeinsam spreche
 n wir über Politik im Bezirk\, in Berlin und in Europa – mit Raum für d
 eine Fragen und Themen. 👉 Komm vorbei\, lern uns kennen und werde Teil d
 er Bewegung für ein vereintes Europa – direkt aus dem Herzen Berlins!
LOCATION:Dolden Mädel Braugasthaus\, Mehringdamm 80\, 10965 Berlin
URL:https://voltdeutschland.org/berlin/veranstaltungen/xhain-treffen-2026-0
 2-05
END:VEVENT
END:VCALENDAR
