BEGIN:VCALENDAR
VERSION:2.0
PRODID:-//Volt Europa//Events//EN
CALSCALE:GREGORIAN
METHOD:PUBLISH
BEGIN:VEVENT
UID:xhain-treffen-2025-12-11-1765476000@voltdeutschland.org
DTSTAMP:20260422T041454Z
DTSTART;TZID=Europe/Berlin:20251211T190000
DTEND;TZID=Europe/Berlin:20251211T210000
SUMMARY:Bezirkstreffen Friedrichshain-Kreuzberg
DESCRIPTION:Du willst Politik neu denken - offen\, pragmatisch und europäi
 sch? Dann komm zu unserem regelmäßigen  Volt-Treffen in Friedrichshain-Kr
 euzberg  und bring deine Ideen mit! Ob du einfach mal reinschnuppern oder d
 irekt mitdiskutieren willst - bei uns bist du willkommen. Gemeinsam spreche
 n wir über Politik im Bezirk\, in Berlin und in Europa – mit Raum für d
 eine Fragen und Themen. 👉 Komm vorbei\, lern uns kennen und werde Teil d
 er Bewegung für ein vereintes Europa – direkt aus dem Herzen Berlins!
LOCATION:Abgedreht\, Karl-Marx-Allee 140\, 10243 Berlin
URL:https://voltdeutschland.org/berlin/veranstaltungen/xhain-treffen-2025-1
 2-11
END:VEVENT
END:VCALENDAR
